BEGIN:VCALENDAR
VERSION:2.0
PRODID:-//Plone.org//NONSGML plone.app.event//EN
X-WR-TIMEZONE:Europe/Rome
BEGIN:VEVENT
SUMMARY:Il contributo dell'Imaging Radiologico nei percorsi assistenziali:
  tra innovazione\, diagnostica e radioprotezione
DTSTART;TZID=Europe/Rome:20260424T093000
DTEND;TZID=Europe/Rome:20260424T123000
DTSTAMP:20260422T085309Z
UID:5bc344bdf4a94cdb917c4491351b7308@localhost:6081
CONTACT:https://dmed.uniud.it/it/eventi/dmed-eventi/imaging_radiologico
CREATED:20250905T085039Z
LAST-MODIFIED:20260421T150748Z
LOCATION:Biblioteca Rizzi (via Fausto Schiavi\, 44)
URL:https://dmed.uniud.it/it/manual-links/events/copy_of_open_day_dmed
END:VEVENT
BEGIN:VTIMEZONE
TZID:Europe/Rome
X-LIC-LOCATION:Europe/Rome
BEGIN:DAYLIGHT
DTSTART:20260329T030000
TZNAME:CEST
TZOFFSETFROM:+0100
TZOFFSETTO:+0200
END:DAYLIGHT
END:VTIMEZONE
END:VCALENDAR
