BEGIN:VCALENDAR
VERSION:2.0
PRODID:-//Plone.org//NONSGML plone.app.event//EN
X-WR-TIMEZONE:Europe/Rome
BEGIN:VEVENT
SUMMARY:La comunicazione con la persona con afasia
DTSTART;TZID=Europe/Rome:20260424T140000
DTEND;TZID=Europe/Rome:20260424T170000
DTSTAMP:20260424T205434Z
UID:7e1f193a715f47b6899512413d0ee38e@localhost:6081
CONTACT:https://dmed.uniud.it/it/eventi/dmed-eventi/comunicazione_persona_
 afasia
CREATED:20250905T085039Z
LAST-MODIFIED:20260424T065217Z
LOCATION:Biblioteca Rizzi (via Fausto Schiavi\, 44)
URL:https://dmed.uniud.it/it/manual-links/events/copy_of_update_management
 _sepsis
END:VEVENT
BEGIN:VTIMEZONE
TZID:Europe/Rome
X-LIC-LOCATION:Europe/Rome
BEGIN:DAYLIGHT
DTSTART:20260329T030000
TZNAME:CEST
TZOFFSETFROM:+0100
TZOFFSETTO:+0200
END:DAYLIGHT
END:VTIMEZONE
END:VCALENDAR
