BEGIN:VCALENDAR
VERSION:2.0
PRODID:-//Plone.org//NONSGML plone.app.event//EN
X-WR-TIMEZONE:Europe/Rome
BEGIN:VEVENT
SUMMARY:La gestione delle urgenze oncologiche in pediatria
DTSTART;TZID=Europe/Rome:20260423T083000
DTEND;TZID=Europe/Rome:20260423T173000
DTSTAMP:20260422T222124Z
UID:34b7611b35134aef88b1499df79e3a10@localhost:6081
CONTACT:https://dmed.uniud.it/it/eventi/dmed-eventi/gestione_urgenze_oncol
 ogiche_pediatria
CREATED:20250905T085039Z
LAST-MODIFIED:20260415T130820Z
LOCATION:Auditorium GAIA (via Faedis\, 46)
URL:https://dmed.uniud.it/it/manual-links/events/gestione_urgenze_oncologi
 che_pediatria
END:VEVENT
BEGIN:VTIMEZONE
TZID:Europe/Rome
X-LIC-LOCATION:Europe/Rome
BEGIN:DAYLIGHT
DTSTART:20260329T030000
TZNAME:CEST
TZOFFSETFROM:+0100
TZOFFSETTO:+0200
END:DAYLIGHT
END:VTIMEZONE
END:VCALENDAR
