BEGIN:VCALENDAR
VERSION:2.0
PRODID:-//Plone.org//NONSGML plone.app.event//EN
X-WR-TIMEZONE:Europe/Rome
BEGIN:VEVENT
SUMMARY:OPEN DAY DMED
DTSTART;TZID=Europe/Rome:20260423T143000
DTEND;TZID=Europe/Rome:20260423T173000
DTSTAMP:20260423T030929Z
UID:58a3176bc8f5402cb726f71d79dd100e@localhost:6081
CONTACT:https://dmed.uniud.it/it/eventi/dmed-eventi/open_day_dmed
CREATED:20250905T085039Z
LAST-MODIFIED:20260402T094229Z
LOCATION:Biblioteca Rizzi (via Fausto Schiavi\, 44)
URL:https://dmed.uniud.it/it/manual-links/events/open_day_dmed
END:VEVENT
BEGIN:VTIMEZONE
TZID:Europe/Rome
X-LIC-LOCATION:Europe/Rome
BEGIN:DAYLIGHT
DTSTART:20260329T030000
TZNAME:CEST
TZOFFSETFROM:+0100
TZOFFSETTO:+0200
END:DAYLIGHT
END:VTIMEZONE
END:VCALENDAR
